BEGIN:VCALENDAR
VERSION:2.0
PRODID:-//A Summer Odyssey//NL
CALSCALE:GREGORIAN
METHOD:PUBLISH
BEGIN:VTIMEZONE
TZID:Europe/Amsterdam
BEGIN:DAYLIGHT
TZOFFSETFROM:+0100
TZOFFSETTO:+0200
TZNAME:CEST
DTSTART:19700329T020000
RRULE:FREQ=YEARLY;BYDAY=-1SU;BYMONTH=3
END:DAYLIGHT
BEGIN:STANDARD
TZOFFSETFROM:+0200
TZOFFSETTO:+0100
TZNAME:CET
DTSTART:19701025T030000
RRULE:FREQ=YEARLY;BYDAY=-1SU;BYMONTH=10
END:STANDARD
END:VTIMEZONE
BEGIN:VEVENT
UID:a-summer-odyssey-2026-07-03@asummerodyssey.nl
DTSTAMP:20260419T000000Z
DTSTART;TZID=Europe/Amsterdam:20260703T190000
DTEND;TZID=Europe/Amsterdam:20260704T010000
SUMMARY:A Summer Odyssey
DESCRIPTION:Eén avond voor Odyssee-ouders. Tien minuten van school. Deuren open om 19:00\, muziek tot 01:00. Locatie volgt dichter bij de datum.\n\nhttps://a-summer-odyssey.vercel.app
LOCATION:Utrecht
URL:https://a-summer-odyssey.vercel.app
STATUS:CONFIRMED
TRANSP:OPAQUE
END:VEVENT
END:VCALENDAR
